BEGIN:VCALENDAR
VERSION:2.0
PRODID:-//wp-events-plugin.com//7.2.3.1//EN
BEGIN:VEVENT
UID:19@akrockgardensociety.org
DTSTART;TZID=America/Anchorage:20260509T100000
DTEND;TZID=America/Anchorage:20260509T160000
DTSTAMP:20260115T101147Z
URL:https://akrockgardensociety.org/events/args-plant-sale/
SUMMARY:ARGS Plant Sale
DESCRIPTION:Annual plant sale event at the Alaska Botanical Garden
END:VEVENT
BEGIN:VTIMEZONE
TZID:America/Anchorage
X-LIC-LOCATION:America/Anchorage
BEGIN:DAYLIGHT
DTSTART:20260308T030000
TZOFFSETFROM:-0900
TZOFFSETTO:-0800
TZNAME:AKDT
END:DAYLIGHT
END:VTIMEZONE
END:VCALENDAR